BEGIN:VCALENDAR
VERSION:2.0
PRODID:spatie/icalendar-generator
DESCRIPTION:Händelser från Hallstaviks Jaktskytteklubb
X-WR-CALDESC:Händelser från Hallstaviks Jaktskytteklubb
REFRESH-INTERVAL;VALUE=DURATION:PT1440M
X-PUBLISHED-TTL:PT1440M
BEGIN:VTIMEZONE
TZID:Europe/Stockholm
BEGIN:STANDARD
DTSTART:20251026T030000Z
TZOFFSETFROM:+0200
TZOFFSETTO:+0100
END:STANDARD
BEGIN:DAYLIGHT
DTSTART:20260329T020000Z
TZOFFSETFROM:+0100
TZOFFSETTO:+0200
END:DAYLIGHT
BEGIN:STANDARD
DTSTART:20261025T030000Z
TZOFFSETFROM:+0200
TZOFFSETTO:+0100
END:STANDARD
END:VTIMEZONE
BEGIN:VTIMEZONE
TZID:UTC
BEGIN:STANDARD
DTSTART:20250723T150511Z
TZOFFSETFROM:+0000
TZOFFSETTO:+0000
END:STANDARD
END:VTIMEZONE
BEGIN:VEVENT
UID:58-13
DTSTAMP:20260419T150511Z
SUMMARY:Samtliga banor öppna
LOCATION:Hålmyren
ORGANIZER;CN=Christer Modin:MAILTO:christer.modin@hotmail.se
RRULE:FREQ=WEEKLY;UNTIL=20260630T000000Z
DTSTART;TZID=Europe/Stockholm:20260518T180000
DTEND;TZID=Europe/Stockholm:20260518T210000
X-ALT-DESC;FMTTYPE=TEXT/HTML:
CATEGORIES:Information
URL;VALUE=URI:https://hallstaviksjaktskytteklubb.se/mc-events/samtliga-bano
 r-oppna-3/?mc_id=58
METHOD:PUBLISH
END:VEVENT
END:VCALENDAR