BEGIN:VCALENDAR
VERSION:2.0
PRODID:spatie/icalendar-generator
DESCRIPTION:Händelser från Hallstaviks Jaktskytteklubb
X-WR-CALDESC:Händelser från Hallstaviks Jaktskytteklubb
REFRESH-INTERVAL;VALUE=DURATION:PT1440M
X-PUBLISHED-TTL:PT1440M
BEGIN:VTIMEZONE
TZID:Europe/Stockholm
BEGIN:STANDARD
DTSTART:20251026T030000Z
TZOFFSETFROM:+0200
TZOFFSETTO:+0100
END:STANDARD
BEGIN:DAYLIGHT
DTSTART:20260329T020000Z
TZOFFSETFROM:+0100
TZOFFSETTO:+0200
END:DAYLIGHT
END:VTIMEZONE
BEGIN:VTIMEZONE
TZID:UTC
BEGIN:STANDARD
DTSTART:20250723T173428Z
TZOFFSETFROM:+0000
TZOFFSETTO:+0000
END:STANDARD
END:VTIMEZONE
BEGIN:VEVENT
UID:105-21
DTSTAMP:20260419T173428Z
SUMMARY:Årsmöte
LOCATION:Hålmyren
ORGANIZER;CN=Christer Modin:MAILTO:christer.modin@hotmail.se
DTSTART;TZID=Europe/Stockholm:20260326T180000
DTEND;TZID=Europe/Stockholm:20260326T190000
X-ALT-DESC;FMTTYPE=TEXT/HTML:Hallsta Pappersbruk\, konferensrum Ask/Embla
CATEGORIES:Information,  Evenemang
URL;VALUE=URI:https://hallstaviksjaktskytteklubb.se/mc-events/arsmote-2/
METHOD:PUBLISH
END:VEVENT
END:VCALENDAR